BEGIN:VCALENDAR
VERSION:2.0
PRODID:-//Hot Springs County Recreation District - ECPv6.15.20//NONSGML v1.0//EN
CALSCALE:GREGORIAN
METHOD:PUBLISH
X-WR-CALNAME:Hot Springs County Recreation District
X-ORIGINAL-URL:https://hscrecreation.net
X-WR-CALDESC:Events for Hot Springs County Recreation District
REFRESH-INTERVAL;VALUE=DURATION:PT1H
X-Robots-Tag:noindex
X-PUBLISHED-TTL:PT1H
BEGIN:VTIMEZONE
TZID:America/Chicago
BEGIN:DAYLIGHT
TZOFFSETFROM:-0600
TZOFFSETTO:-0500
TZNAME:CDT
DTSTART:20230312T080000
END:DAYLIGHT
BEGIN:STANDARD
TZOFFSETFROM:-0500
TZOFFSETTO:-0600
TZNAME:CST
DTSTART:20231105T070000
END:STANDARD
BEGIN:DAYLIGHT
TZOFFSETFROM:-0600
TZOFFSETTO:-0500
TZNAME:CDT
DTSTART:20240310T080000
END:DAYLIGHT
BEGIN:STANDARD
TZOFFSETFROM:-0500
TZOFFSETTO:-0600
TZNAME:CST
DTSTART:20241103T070000
END:STANDARD
BEGIN:DAYLIGHT
TZOFFSETFROM:-0600
TZOFFSETTO:-0500
TZNAME:CDT
DTSTART:20250309T080000
END:DAYLIGHT
BEGIN:STANDARD
TZOFFSETFROM:-0500
TZOFFSETTO:-0600
TZNAME:CST
DTSTART:20251102T070000
END:STANDARD
END:VTIMEZONE
BEGIN:VEVENT
DTSTART;VALUE=DATE:20240419
DTEND;VALUE=DATE:20240420
DTSTAMP:20260424T150749
CREATED:20240322T201044Z
LAST-MODIFIED:20240323T021714Z
UID:10000004-1713484800-1713571199@hscrecreation.net
SUMMARY:Adult Softball Registration Opens
DESCRIPTION:Adult Softball Registration Opens 4/19
URL:https://hscrecreation.net/event/adult-softball-registration-opens/
END:VEVENT
BEGIN:VEVENT
DTSTART;VALUE=DATE:20240415
DTEND;VALUE=DATE:20240416
DTSTAMP:20260424T150749
CREATED:20240322T200951Z
LAST-MODIFIED:20240322T200951Z
UID:10000003-1713139200-1713225599@hscrecreation.net
SUMMARY:Thermopolis Youth Baseball Registration Opens
DESCRIPTION:
URL:https://hscrecreation.net/event/thermopolis-youth-baseball-registration-opens/
END:VEVENT
BEGIN:VEVENT
DTSTART;VALUE=DATE:20240415
DTEND;VALUE=DATE:20240416
DTSTAMP:20260424T150749
CREATED:20240322T200701Z
LAST-MODIFIED:20240322T200701Z
UID:10000001-1713139200-1713225599@hscrecreation.net
SUMMARY:Youth Soccer Starts
DESCRIPTION:
URL:https://hscrecreation.net/event/youth-soccer-starts/
END:VEVENT
BEGIN:VEVENT
DTSTART;VALUE=DATE:20240412
DTEND;VALUE=DATE:20240414
DTSTAMP:20260424T150749
CREATED:20240322T201123Z
LAST-MODIFIED:20240322T201151Z
UID:10000005-1712880000-1713052799@hscrecreation.net
SUMMARY:Friends of the Library Book Sale
DESCRIPTION:
URL:https://hscrecreation.net/event/friends-of-the-library-book-sale/
END:VEVENT
BEGIN:VEVENT
DTSTART;VALUE=DATE:20240410
DTEND;VALUE=DATE:20240411
DTSTAMP:20260424T150749
CREATED:20240322T200915Z
LAST-MODIFIED:20240322T200915Z
UID:10000002-1712707200-1712793599@hscrecreation.net
SUMMARY:Adult Basketball Ends
DESCRIPTION:
URL:https://hscrecreation.net/event/adult-basketball-ends/
END:VEVENT
BEGIN:VEVENT
DTSTART;VALUE=DATE:20240323
DTEND;VALUE=DATE:20240324
DTSTAMP:20260424T150749
CREATED:20240323T030917Z
LAST-MODIFIED:20240323T030917Z
UID:10000023-1711152000-1711238399@hscrecreation.net
SUMMARY:Adult Volleyball Registration Opens
DESCRIPTION:
URL:https://hscrecreation.net/event/adult-volleyball-registration-opens/
END:VEVENT
END:VCALENDAR