BEGIN:VCALENDAR
VERSION:2.0
PRODID:-//Hot Springs County Recreation District - ECPv6.15.20//NONSGML v1.0//EN
CALSCALE:GREGORIAN
METHOD:PUBLISH
X-ORIGINAL-URL:https://hscrecreation.net
X-WR-CALDESC:Events for Hot Springs County Recreation District
REFRESH-INTERVAL;VALUE=DURATION:PT1H
X-Robots-Tag:noindex
X-PUBLISHED-TTL:PT1H
BEGIN:VTIMEZONE
TZID:America/Chicago
BEGIN:DAYLIGHT
TZOFFSETFROM:-0600
TZOFFSETTO:-0500
TZNAME:CDT
DTSTART:20230312T080000
END:DAYLIGHT
BEGIN:STANDARD
TZOFFSETFROM:-0500
TZOFFSETTO:-0600
TZNAME:CST
DTSTART:20231105T070000
END:STANDARD
BEGIN:DAYLIGHT
TZOFFSETFROM:-0600
TZOFFSETTO:-0500
TZNAME:CDT
DTSTART:20240310T080000
END:DAYLIGHT
BEGIN:STANDARD
TZOFFSETFROM:-0500
TZOFFSETTO:-0600
TZNAME:CST
DTSTART:20241103T070000
END:STANDARD
BEGIN:DAYLIGHT
TZOFFSETFROM:-0600
TZOFFSETTO:-0500
TZNAME:CDT
DTSTART:20250309T080000
END:DAYLIGHT
BEGIN:STANDARD
TZOFFSETFROM:-0500
TZOFFSETTO:-0600
TZNAME:CST
DTSTART:20251102T070000
END:STANDARD
END:VTIMEZONE
BEGIN:VEVENT
DTSTART;VALUE=DATE:20241220
DTEND;VALUE=DATE:20241221
DTSTAMP:20260424T115949
CREATED:20240323T031527Z
LAST-MODIFIED:20240323T031527Z
UID:10000030-1734652800-1734739199@hscrecreation.net
SUMMARY:Girl's Youth Basketball Registration Opens
DESCRIPTION:
URL:https://hscrecreation.net/event/girls-youth-basketball-registration-opens/
END:VEVENT
BEGIN:VEVENT
DTSTART;VALUE=DATE:20241205
DTEND;VALUE=DATE:20241206
DTSTAMP:20260424T115949
CREATED:20240323T031439Z
LAST-MODIFIED:20240323T031439Z
UID:10000029-1733356800-1733443199@hscrecreation.net
SUMMARY:Boy's Youth Basketball Ends
DESCRIPTION:
URL:https://hscrecreation.net/event/boys-youth-basketball-ends/
END:VEVENT
BEGIN:VEVENT
DTSTART;VALUE=DATE:20241120
DTEND;VALUE=DATE:20241121
DTSTAMP:20260424T115949
CREATED:20240323T031344Z
LAST-MODIFIED:20240323T031344Z
UID:10000028-1732060800-1732147199@hscrecreation.net
SUMMARY:Adult Volleyball Ends
DESCRIPTION:
URL:https://hscrecreation.net/event/adult-volleyball-ends/
END:VEVENT
BEGIN:VEVENT
DTSTART;VALUE=DATE:20241114
DTEND;VALUE=DATE:20241115
DTSTAMP:20260424T115949
CREATED:20240323T031254Z
LAST-MODIFIED:20240323T031254Z
UID:10000027-1731542400-1731628799@hscrecreation.net
SUMMARY:Boy's Youth Basketball Starts
DESCRIPTION:
URL:https://hscrecreation.net/event/boys-youth-basketball-starts/
END:VEVENT
BEGIN:VEVENT
DTSTART;VALUE=DATE:20241013
DTEND;VALUE=DATE:20241014
DTSTAMP:20260424T115949
CREATED:20240323T031145Z
LAST-MODIFIED:20240323T031145Z
UID:10000026-1728777600-1728863999@hscrecreation.net
SUMMARY:Youth Football Ends
DESCRIPTION:
URL:https://hscrecreation.net/event/youth-football-ends/
END:VEVENT
BEGIN:VEVENT
DTSTART;VALUE=DATE:20241012
DTEND;VALUE=DATE:20241013
DTSTAMP:20260424T115949
CREATED:20240323T031015Z
LAST-MODIFIED:20240323T031015Z
UID:10000024-1728691200-1728777599@hscrecreation.net
SUMMARY:Adult Volleyball Starts
DESCRIPTION:
URL:https://hscrecreation.net/event/adult-volleyball-starts/
END:VEVENT
BEGIN:VEVENT
DTSTART;VALUE=DATE:20241004
DTEND;VALUE=DATE:20241005
DTSTAMP:20260424T115949
CREATED:20240323T031058Z
LAST-MODIFIED:20240323T031058Z
UID:10000025-1728000000-1728086399@hscrecreation.net
SUMMARY:Boy's Youth Basketball Registration Opens
DESCRIPTION:
URL:https://hscrecreation.net/event/boys-youth-basketball-registration-opens/
END:VEVENT
BEGIN:VEVENT
DTSTART;VALUE=DATE:20240902
DTEND;VALUE=DATE:20240903
DTSTAMP:20260424T115949
CREATED:20240323T030829Z
LAST-MODIFIED:20240323T030829Z
UID:10000022-1725235200-1725321599@hscrecreation.net
SUMMARY:Youth Volleyball Starts
DESCRIPTION:
URL:https://hscrecreation.net/event/youth-volleyball-starts/
END:VEVENT
BEGIN:VEVENT
DTSTART;VALUE=DATE:20240819
DTEND;VALUE=DATE:20240820
DTSTAMP:20260424T115949
CREATED:20240323T030745Z
LAST-MODIFIED:20240323T030745Z
UID:10000021-1724025600-1724111999@hscrecreation.net
SUMMARY:Youth Football Starts
DESCRIPTION:
URL:https://hscrecreation.net/event/youth-football-starts/
END:VEVENT
BEGIN:VEVENT
DTSTART;VALUE=DATE:20240812
DTEND;VALUE=DATE:20240813
DTSTAMP:20260424T115949
CREATED:20240323T030708Z
LAST-MODIFIED:20240323T030708Z
UID:10000020-1723420800-1723507199@hscrecreation.net
SUMMARY:Youth Volleyball Registration Opens
DESCRIPTION:
URL:https://hscrecreation.net/event/youth-volleyball-registration-opens/
END:VEVENT
BEGIN:VEVENT
DTSTART;VALUE=DATE:20240729
DTEND;VALUE=DATE:20240802
DTSTAMP:20260424T115949
CREATED:20240323T030434Z
LAST-MODIFIED:20240323T030434Z
UID:10000018-1722211200-1722556799@hscrecreation.net
SUMMARY:Bobcat Mountain Bike Day Camp - Advanced Level
DESCRIPTION:7/29 – 8/1
URL:https://hscrecreation.net/event/bobcat-mountain-bike-day-camp-advanced-level/
END:VEVENT
BEGIN:VEVENT
DTSTART;VALUE=DATE:20240722
DTEND;VALUE=DATE:20240726
DTSTAMP:20260424T115949
CREATED:20240323T024848Z
LAST-MODIFIED:20240323T024848Z
UID:10000017-1721606400-1721951999@hscrecreation.net
SUMMARY:Bobcat Mountain Bike Day Camp - Beginner Level
DESCRIPTION:7/22 to 7/24
URL:https://hscrecreation.net/event/bobcat-mountain-bike-day-camp-beginner-level/
END:VEVENT
BEGIN:VEVENT
DTSTART;VALUE=DATE:20240718
DTEND;VALUE=DATE:20240719
DTSTAMP:20260424T115949
CREATED:20240323T024752Z
LAST-MODIFIED:20240323T024752Z
UID:10000016-1721260800-1721347199@hscrecreation.net
SUMMARY:Adult Softball Ends
DESCRIPTION:
URL:https://hscrecreation.net/event/adult-softball-ends/
END:VEVENT
BEGIN:VEVENT
DTSTART;VALUE=DATE:20240712
DTEND;VALUE=DATE:20240713
DTSTAMP:20260424T115949
CREATED:20240323T030522Z
LAST-MODIFIED:20240323T030522Z
UID:10000019-1720742400-1720828799@hscrecreation.net
SUMMARY:Youth Football Registration Opens
DESCRIPTION:
URL:https://hscrecreation.net/event/youth-football-registration-opens/
END:VEVENT
BEGIN:VEVENT
DTSTART;VALUE=DATE:20240701
DTEND;VALUE=DATE:20240702
DTSTAMP:20260424T115949
CREATED:20240323T024700Z
LAST-MODIFIED:20240323T024700Z
UID:10000015-1719792000-1719878399@hscrecreation.net
SUMMARY:Start Smart Baseball Ends
DESCRIPTION:
URL:https://hscrecreation.net/event/start-smart-baseball-ends/
END:VEVENT
BEGIN:VEVENT
DTSTART;VALUE=DATE:20240628
DTEND;VALUE=DATE:20240629
DTSTAMP:20260424T115949
CREATED:20240323T024623Z
LAST-MODIFIED:20240323T024623Z
UID:10000014-1719532800-1719619199@hscrecreation.net
SUMMARY:Thermopolis Youth Baseball Ends
DESCRIPTION:
URL:https://hscrecreation.net/event/thermopolis-youth-baseball-ends/
END:VEVENT
BEGIN:VEVENT
DTSTART;VALUE=DATE:20240604
DTEND;VALUE=DATE:20240605
DTSTAMP:20260424T115949
CREATED:20240323T024434Z
LAST-MODIFIED:20240323T024434Z
UID:10000013-1717459200-1717545599@hscrecreation.net
SUMMARY:Adult Softball Starts
DESCRIPTION:
URL:https://hscrecreation.net/event/adult-softball-starts/
END:VEVENT
BEGIN:VEVENT
DTSTART;VALUE=DATE:20240603
DTEND;VALUE=DATE:20240604
DTSTAMP:20260424T115949
CREATED:20240323T024339Z
LAST-MODIFIED:20240323T024339Z
UID:10000012-1717372800-1717459199@hscrecreation.net
SUMMARY:Coach Pitch Baseball & T-Ball Starts
DESCRIPTION:
URL:https://hscrecreation.net/event/coach-pitch-baseball-t-ball-starts/
END:VEVENT
BEGIN:VEVENT
DTSTART;VALUE=DATE:20240603
DTEND;VALUE=DATE:20240604
DTSTAMP:20260424T115949
CREATED:20240322T201556Z
LAST-MODIFIED:20240322T201556Z
UID:10000011-1717372800-1717459199@hscrecreation.net
SUMMARY:Start Smart Baseball Starts
DESCRIPTION:
URL:https://hscrecreation.net/event/start-smart-baseball-starts/
END:VEVENT
BEGIN:VEVENT
DTSTART;VALUE=DATE:20240527
DTEND;VALUE=DATE:20240608
DTSTAMP:20260424T115949
CREATED:20240322T201521Z
LAST-MODIFIED:20240322T201521Z
UID:10000010-1716768000-1717804799@hscrecreation.net
SUMMARY:Youth & Adult Tennis Lessons
DESCRIPTION:
URL:https://hscrecreation.net/event/youth-adult-tennis-lessons/
END:VEVENT
BEGIN:VEVENT
DTSTART;VALUE=DATE:20240523
DTEND;VALUE=DATE:20240524
DTSTAMP:20260424T115949
CREATED:20240322T201432Z
LAST-MODIFIED:20240322T201432Z
UID:10000009-1716422400-1716508799@hscrecreation.net
SUMMARY:Youth Soccer Ends
DESCRIPTION:
URL:https://hscrecreation.net/event/youth-soccer-ends/
END:VEVENT
BEGIN:VEVENT
DTSTART;VALUE=DATE:20240522
DTEND;VALUE=DATE:20240523
DTSTAMP:20260424T115949
CREATED:20240322T201356Z
LAST-MODIFIED:20240322T201356Z
UID:10000008-1716336000-1716422399@hscrecreation.net
SUMMARY:Adult Softball Registration Closes
DESCRIPTION:
URL:https://hscrecreation.net/event/adult-softball-registration-closes/
END:VEVENT
BEGIN:VEVENT
DTSTART;VALUE=DATE:20240503
DTEND;VALUE=DATE:20240504
DTSTAMP:20260424T115949
CREATED:20240322T201313Z
LAST-MODIFIED:20240322T201313Z
UID:10000007-1714694400-1714780799@hscrecreation.net
SUMMARY:Start Smart Baseball Registration Opens
DESCRIPTION:
URL:https://hscrecreation.net/event/start-smart-baseball-registration-opens/
END:VEVENT
BEGIN:VEVENT
DTSTART;VALUE=DATE:20240503
DTEND;VALUE=DATE:20240504
DTSTAMP:20260424T115949
CREATED:20240322T201234Z
LAST-MODIFIED:20240322T201234Z
UID:10000006-1714694400-1714780799@hscrecreation.net
SUMMARY:15U & 12U Baseball Registration Opens
DESCRIPTION:
URL:https://hscrecreation.net/event/15u-12u-baseball-registration-opens/
END:VEVENT
BEGIN:VEVENT
DTSTART;VALUE=DATE:20240419
DTEND;VALUE=DATE:20240420
DTSTAMP:20260424T115949
CREATED:20240322T201044Z
LAST-MODIFIED:20240323T021714Z
UID:10000004-1713484800-1713571199@hscrecreation.net
SUMMARY:Adult Softball Registration Opens
DESCRIPTION:Adult Softball Registration Opens 4/19
URL:https://hscrecreation.net/event/adult-softball-registration-opens/
END:VEVENT
BEGIN:VEVENT
DTSTART;VALUE=DATE:20240415
DTEND;VALUE=DATE:20240416
DTSTAMP:20260424T115949
CREATED:20240322T200951Z
LAST-MODIFIED:20240322T200951Z
UID:10000003-1713139200-1713225599@hscrecreation.net
SUMMARY:Thermopolis Youth Baseball Registration Opens
DESCRIPTION:
URL:https://hscrecreation.net/event/thermopolis-youth-baseball-registration-opens/
END:VEVENT
BEGIN:VEVENT
DTSTART;VALUE=DATE:20240415
DTEND;VALUE=DATE:20240416
DTSTAMP:20260424T115949
CREATED:20240322T200701Z
LAST-MODIFIED:20240322T200701Z
UID:10000001-1713139200-1713225599@hscrecreation.net
SUMMARY:Youth Soccer Starts
DESCRIPTION:
URL:https://hscrecreation.net/event/youth-soccer-starts/
END:VEVENT
BEGIN:VEVENT
DTSTART;VALUE=DATE:20240412
DTEND;VALUE=DATE:20240414
DTSTAMP:20260424T115949
CREATED:20240322T201123Z
LAST-MODIFIED:20240322T201151Z
UID:10000005-1712880000-1713052799@hscrecreation.net
SUMMARY:Friends of the Library Book Sale
DESCRIPTION:
URL:https://hscrecreation.net/event/friends-of-the-library-book-sale/
END:VEVENT
BEGIN:VEVENT
DTSTART;VALUE=DATE:20240410
DTEND;VALUE=DATE:20240411
DTSTAMP:20260424T115949
CREATED:20240322T200915Z
LAST-MODIFIED:20240322T200915Z
UID:10000002-1712707200-1712793599@hscrecreation.net
SUMMARY:Adult Basketball Ends
DESCRIPTION:
URL:https://hscrecreation.net/event/adult-basketball-ends/
END:VEVENT
BEGIN:VEVENT
DTSTART;VALUE=DATE:20240323
DTEND;VALUE=DATE:20240324
DTSTAMP:20260424T115949
CREATED:20240323T030917Z
LAST-MODIFIED:20240323T030917Z
UID:10000023-1711152000-1711238399@hscrecreation.net
SUMMARY:Adult Volleyball Registration Opens
DESCRIPTION:
URL:https://hscrecreation.net/event/adult-volleyball-registration-opens/
END:VEVENT
END:VCALENDAR